BEGIN:VCALENDAR
VERSION:2.0
PRODID:-//Regional Performing Arts Co. - ECPv6.15.20//NONSGML v1.0//EN
CALSCALE:GREGORIAN
METHOD:PUBLISH
X-WR-CALNAME:Regional Performing Arts Co.
X-ORIGINAL-URL:https://regionalperformingarts.org
X-WR-CALDESC:Events for Regional Performing Arts Co.
REFRESH-INTERVAL;VALUE=DURATION:PT1H
X-Robots-Tag:noindex
X-PUBLISHED-TTL:PT1H
BEGIN:VTIMEZONE
TZID:America/Chicago
BEGIN:DAYLIGHT
TZOFFSETFROM:-0600
TZOFFSETTO:-0500
TZNAME:CDT
DTSTART:20230312T080000
END:DAYLIGHT
BEGIN:STANDARD
TZOFFSETFROM:-0500
TZOFFSETTO:-0600
TZNAME:CST
DTSTART:20231105T070000
END:STANDARD
BEGIN:DAYLIGHT
TZOFFSETFROM:-0600
TZOFFSETTO:-0500
TZNAME:CDT
DTSTART:20240310T080000
END:DAYLIGHT
BEGIN:STANDARD
TZOFFSETFROM:-0500
TZOFFSETTO:-0600
TZNAME:CST
DTSTART:20241103T070000
END:STANDARD
BEGIN:DAYLIGHT
TZOFFSETFROM:-0600
TZOFFSETTO:-0500
TZNAME:CDT
DTSTART:20250309T080000
END:DAYLIGHT
BEGIN:STANDARD
TZOFFSETFROM:-0500
TZOFFSETTO:-0600
TZNAME:CST
DTSTART:20251102T070000
END:STANDARD
END:VTIMEZONE
BEGIN:VEVENT
DTSTART;TZID=America/Chicago:20240316T160000
DTEND;TZID=America/Chicago:20240316T180000
DTSTAMP:20260420T215013
CREATED:20240123T000701Z
LAST-MODIFIED:20240305T000702Z
UID:2233-1710604800-1710612000@regionalperformingarts.org
SUMMARY:Game of Tiaras
DESCRIPTION:When the aging king of a Magical Kingdom (England) decides to split his empire between his three daughters\, Cinderella\, Belle\, and the Snow Queen (who in no way resembles a copyrighted character)\, terrible tragedy ensues. Terrible\, hilarious tragedy. Combining the gut-wrenching plot twists of Game of Thrones and the soul-numbing despair of Shakespearean tragedy\, this adaptation of King Lear will leave you dying with laughter as the body count mounts. When you play the Game of Tiaras\, you win or you die. \nSharing is caring!
URL:https://regionalperformingarts.org/event/game-of-tiaras-5/
LOCATION:Regional Performing Arts Company\, 2530 Portage Mall\, Portage\, IN\, 46368\, US
ATTACH;FMTTYPE=image/jpeg:https://regionalperformingarts.org/wp-content/uploads/2023/12/2176_image_412943504_752288853608558_6034829361223127312_n.jpg
END:VEVENT
BEGIN:VEVENT
DTSTART;TZID=America/Chicago:20240316T170000
DTEND;TZID=America/Chicago:20240316T180000
DTSTAMP:20260420T215013
CREATED:20240121T000945Z
LAST-MODIFIED:20240122T000647Z
UID:2229-1710608400-1710612000@regionalperformingarts.org
SUMMARY:Game of Tiaras
DESCRIPTION:When the aging king of a Magical Kingdom (England) decides to split his empire between his three daughters\, Cinderella\, Belle\, and the Snow Queen (who in no way resembles a copyrighted character)\, terrible tragedy ensues. Terrible\, hilarious tragedy. Combining the gut-wrenching plot twists of Game of Thrones and the soul-numbing despair of Shakespearean tragedy\, this adaptation of King Lear will leave you dying with laughter as the body count mounts. When you play the Game of Tiaras\, you win or you die. \nSharing is caring!
URL:https://regionalperformingarts.org/event/game-of-tiaras-4/
LOCATION:Regional Performing Arts Company\, 2530 Portage Mall\, Portage\, IN\, 46368\, US
ATTACH;FMTTYPE=image/jpeg:https://regionalperformingarts.org/wp-content/uploads/2023/12/2176_image_412943504_752288853608558_6034829361223127312_n.jpg
END:VEVENT
BEGIN:VEVENT
DTSTART;TZID=America/Chicago:20240316T190000
DTEND;TZID=America/Chicago:20240316T200000
DTSTAMP:20260420T215013
CREATED:20231222T002206Z
LAST-MODIFIED:20240305T000702Z
UID:2178-1710615600-1710619200@regionalperformingarts.org
SUMMARY:Game of Tiaras
DESCRIPTION:When the aging king of a Magical Kingdom (England) decides to split his empire between his three daughters\, Cinderella\, Belle\, and the Snow Queen (who in no way resembles a copyrighted character)\, terrible tragedy ensues. Terrible\, hilarious tragedy. Combining the gut-wrenching plot twists of Game of Thrones and the soul-numbing despair of Shakespearean tragedy\, this adaptation of King Lear will leave you dying with laughter as the body count mounts. When you play the Game of Tiaras\, you win or you die. \nSharing is caring!
URL:https://regionalperformingarts.org/event/game-of-tiaras-2/
LOCATION:Regional Performing Arts Company\, 2530 Portage Mall\, Portage\, IN\, 46368\, US
ATTACH;FMTTYPE=image/jpeg:https://regionalperformingarts.org/wp-content/uploads/2023/12/2176_image_412943504_752288853608558_6034829361223127312_n.jpg
END:VEVENT
END:VCALENDAR